BEGIN:VCALENDAR
VERSION:2.0
PRODID:-//ChamberMaster//Event Calendar 2.0//EN
METHOD:PUBLISH
X-PUBLISHED-TTL:P3D
REFRESH-INTERVAL:P3D
CALSCALE:GREGORIAN
BEGIN:VEVENT
DTSTART:20251117T164000Z
DTEND:20251117T173000Z
X-MICROSOFT-CDO-ALLDAYEVENT:FALSE
SUMMARY:Yeck's Auto Repair to receive International Torch Award for Ethics
DESCRIPTION:Join us to watch a Virtual Presentation of the Better Business Bureau's 2025 International Torch Awards for Ethics.  Yeck's Auto Repair is one of the 5 recipients of this award this year!!!\n\n \n\nThe IABBB announced five winning businesses that exemplify leadership character and organizational ethics. Winners will be honored during a virtual awards ceremony on November 19\, 2025. To celebrate locally\, Yeck's Auto Repair will host a community virtual watch party at DJ's Dugout in Bellevue\, inviting supporters\, customers\, and community partners to join them.\n\nAs part of the evaluation process\, companies were judged using four key criteria:\n\n  Character of the organization's leadership\n\n  Culture and how authentically it is being fostered\n\n  Customer relationships and transparency\n\n  Community impact and engagement\n\n\n\n\n\n\n\nYeck's Auto Repair excelled in each area\, reflecting the trust\, honesty\, and commitment that have guided the business for five decades.
X-ALT-DESC;FMTTYPE=text/html:<p data-end="181" data-start="113"><span style="font-size:20px\;"><strong data-end="179" data-start="113">Join us to watch a Virtual Presentation of the Better Business Bureau&#39\;s 2025 International Torch Awards for Ethics.&nbsp\; Yeck&#39\;s Auto Repair is one of the 5 recipients of this award this year!!!</strong></span><br />\n&nbsp\;</p>\n\n<p data-end="1119" data-start="746"><span style="font-size:16px\;">The IABBB announced five winning businesses that exemplify leadership character and organizational ethics. Winners will be honored during a <strong data-end="934" data-start="886">virtual awards ceremony on November 19\, 2025</strong>. To celebrate locally\, <strong data-end="1049" data-start="958">Yeck&rsquo\;s Auto Repair will host a community virtual watch party at DJ&rsquo\;s Dugout in Bellevue</strong>\, inviting supporters\, customers\, and community partners to join them.</span></p>\n\n<p data-end="1411" data-start="1121"><span style="font-size:16px\;">As part of the&nbsp\;evaluation process\, companies were judged using four key criteria:<br data-end="1214" data-start="1211" />\n&bull\; <strong data-end="1229" data-start="1216">Character</strong> of the organization&rsquo\;s leadership<br data-end="1265" data-start="1262" />\n&bull\; <strong data-end="1278" data-start="1267">Culture</strong> and how authentically it is being fostered<br data-end="1324" data-start="1321" />\n&bull\; <strong data-end="1338" data-start="1326">Customer</strong> relationships and transparency<br data-end="1372" data-start="1369" />\n&bull\; <strong data-end="1387" data-start="1374">Community</strong> impact and engagement<br />\n<br />\n<br />\n<br />\nYeck&rsquo\;s Auto Repair excelled in each area\, reflecting the trust\, honesty\, and commitment that have guided the business for five decades.</span></p>\n\n<p data-end="181" data-start="113">&nbsp\;</p>\n\n<p data-end="181" data-start="113">&nbsp\;</p>\n<br />\n<br />\n<br />\n&nbsp\;
LOCATION:DJ's Dugout 23rd & Cornhusker
UID:e.3271.2628
SEQUENCE:3
DTSTAMP:20260421T010156Z
URL:https://business.bellevuenebraska.com/events/details/yeck-s-auto-repair-to-receive-international-torch-award-for-ethics-2628
END:VEVENT

END:VCALENDAR
