BEGIN:VCALENDAR
VERSION:2.0
PRODID:-//ChamberMaster//Event Calendar 2.0//EN
METHOD:PUBLISH
X-PUBLISHED-TTL:P3D
REFRESH-INTERVAL:P3D
CALSCALE:GREGORIAN
BEGIN:VEVENT
DTSTART:20260128T140000Z
DTEND:20260128T150000Z
X-MICROSOFT-CDO-ALLDAYEVENT:FALSE
SUMMARY:Wake Up Wednesday at Riddle's Jewelry - Papillion
DESCRIPTION:Rise and Shine with Networking!  \n\n\n\nWake Up Wednesday is your midweek boost for connections\, coffee\, and great conversations! It's the perfect way to start your day\, build your network\, and spark new opportunities. Don't miss out\, make your Wednesday count!\n\n\n\n*This event is free to attend\, but please register so the host can plan accordingly for refreshments.*
X-ALT-DESC;FMTTYPE=text/html:<span style="font-size:20px\;"><span style="font-family: arial\;">&#9749\; Rise and Shine with Networking! &#127775\;<br />\n<br />\n<strong>Wake Up Wednesday</strong>&nbsp\;is your midweek boost for connections\, coffee\, and great conversations! It&#39\;s the perfect way to start your day\, build your network\, and spark new opportunities. Don&rsquo\;t miss out\, make your Wednesday count!</span><br />\n<br />\n<em><span style="font-family: Lato\, sans-serif\;">*This event is free to attend\, but please register so the host can plan accordingly for refreshments.*</span></em></span>
LOCATION:Riddle's Jewelry - Papillion Shadow Lake Towne Center 7902 Towne Center Parkway\, R111 Papillion\, NE 68046
UID:e.3271.2615
SEQUENCE:3
DTSTAMP:20260420T152222Z
URL:https://business.bellevuenebraska.com/events/details/wake-up-wednesday-at-riddle-s-jewelry-papillion-2615
END:VEVENT

END:VCALENDAR
