BEGIN:VCALENDAR
VERSION:2.0
PRODID:-//ChamberMaster//Event Calendar 2.0//EN
METHOD:PUBLISH
X-PUBLISHED-TTL:P3D
REFRESH-INTERVAL:P3D
CALSCALE:GREGORIAN
BEGIN:VEVENT
DTSTART:20260226T220000Z
DTEND:20260227T000000Z
X-MICROSOFT-CDO-ALLDAYEVENT:FALSE
SUMMARY:"Sweet on You" Member Appreciation Social
DESCRIPTION:We're sweet on you!    Join us for a fun\, afternoon of sweet treats\, beverages\, light games\, and great conversation as we show our appreciation for you. Our amazing Chamber members. No program\, no pressure. Just a little sugar\, a lot of gratitude\, and time to connect!\n\n\n\n*This event is free and open to active chamber members. Please RSVP so we have an accurate headcount for refreshments.*
X-ALT-DESC;FMTTYPE=text/html:<p data-end="228" data-start="125"><span style="font-size: 20px\;">&#10084\;&#65039\; We&rsquo\;re&nbsp\;</span><em data-end="232" data-start="217" style="font-size: 20px\;">sweet on you!&nbsp\;</em><span style="font-size: 20px\;">&#10084\;&#65039\;</span><span style="font-size: 20px\;">&nbsp\;Join us for a fun\,&nbsp\;</span><span style="font-size: 20px\;">afternoon of sweet treats\, beverages\, light games\, and great conversation as we show our appreciation for you. O</span><span style="font-size: 20px\;">ur amazing Chamber members. No program\, no pressure. J</span><span style="font-size: 20px\;">ust a little sugar\, a lot of gratitude\, and time to connect!<br />\n<br />\n<em>*This event is free and open to active chamber members. Please RSVP so we have an accurate headcount for refreshments.*</em></span></p>\n
LOCATION:Fraternal Order of Eagles 209 W Mission Ave Bellevue\, NE 68005
UID:e.3271.2634
SEQUENCE:3
DTSTAMP:20260419T191927Z
URL:https://business.bellevuenebraska.com/events/details/sweet-on-you-member-appreciation-social-2634
END:VEVENT

END:VCALENDAR
