BEGIN:VCALENDAR
VERSION:2.0
PRODID:-//ChamberMaster//Event Calendar 2.0//EN
METHOD:PUBLISH
X-PUBLISHED-TTL:P3D
REFRESH-INTERVAL:P3D
CALSCALE:GREGORIAN
BEGIN:VEVENT
DTSTART:20260112T180000Z
DTEND:20260112T190000Z
X-MICROSOFT-CDO-ALLDAYEVENT:FALSE
SUMMARY:Ribbon Cutting at Veterans of Foreign Wars post 10727
DESCRIPTION:A Chamber Ribbon Cutting celebrates a significant milestone for a Chamber member\, such as a grand opening\, new location\, expansion\, or major anniversary. This event formally welcomes and recognizes the business or organization within the Bellevue business community and provides an opportunity for members\, partners\, and community leaders to show their support.\n\n\n\nJoin us as we recognize Veterans of Foreign Wars post 10727 and help celebrate the continued growth of our local business community.
X-ALT-DESC;FMTTYPE=text/html:<p data-end="235" data-start="115"><span style="font-size:20px\;">A <strong data-end="288" data-start="262">Chamber Ribbon Cutting</strong> celebrates a significant milestone for a Chamber member\, such as a grand opening\, new location\, expansion\, or major anniversary. This event formally welcomes and recognizes the business or organization within the Bellevue business community and provides an opportunity for members\, partners\, and community leaders to show their support.<br />\n<br data-end="661" data-start="658" />\n<strong data-end="776" data-start="661">Join us as we recognize Veterans of Foreign Wars post 10727&nbsp\;and help celebrate the continued growth of our local business community.</strong></span></p>\n
LOCATION:Veterans of Foreign Wars post 10727 9501 S 25th St Bellevue\, NE 68147
UID:e.3271.2633
SEQUENCE:3
DTSTAMP:20260420T182401Z
URL:https://business.bellevuenebraska.com/events/details/ribbon-cutting-at-veterans-of-foreign-wars-post-10727-2633
END:VEVENT

END:VCALENDAR
