BEGIN:VCALENDAR
VERSION:2.0
PRODID:-//ChamberMaster//Event Calendar 2.0//EN
METHOD:PUBLISH
X-PUBLISHED-TTL:P3D
REFRESH-INTERVAL:P3D
CALSCALE:GREGORIAN
BEGIN:VEVENT
DTSTART:20251209T160000Z
DTEND:20251209T180000Z
X-MICROSOFT-CDO-ALLDAYEVENT:FALSE
SUMMARY:Operation Holiday Cheer - 2025
DESCRIPTION:Operation Holiday Cheer!\n\nThis is a long-standing tradition for the Bellevue Chamber of Commerce & Community\, and we are happy to keep it going this year. Operation Holiday Cheer seeks to bring a little holiday magic to our local enlisted military members that remain in the Offutt Air Force Base dorms over Christmas. Bags are filled with jolly goodies and delivered to Offutt to bring some holiday cheer.\n\n\n\nPlease consider making a financial or in-kind donation to enable the Bellevue Chamber of Commerce & Community the ability to secure items for 500 bags. All contributors are recognized on a holiday card that is included in the bag. Please make checks payable to the Bellevue Economic Enhancement Foundation (BEEF) c/o of Operation Holiday Cheer - Bellevue Chamber of Commerce & Community. You can also contribute via credit card through the "Register" button on the right-hand side of this screen. Contributors of $300+ will be invited to help stuff the bags on Tuesday\, December 9th (please note that stuffing the bags is by invitation only).\n\n\n\nYou are also welcome to donate in-kind items! Please ensure that the items are new and that you have 500 of them so each military member receives the same items in their bag. Thank you for your generosity in helping to continue this cheerful and magical tradition for those stationed here in Bellevue!\n\n\n\nDonations (financial and in-kind) must be received by Tuesday\, December 2nd. The Chamber is happy to pick up donations. Please contact us to arrange a time.\n\n\n\nSponsorship Opportunities:\n\n	\n		\n			 SANTA CLAUS SPONSOR - $500\n			\n				Company name listed on holiday card included in bags\n				Two company representatives invited to help stuff bags seat\n				Website/Social Media recognition \n			\n			\n			 \n\n			 \n\n			Unlimited\n		\n		\n			 RUDOLPH SPONSOR - $300\n			\n				Company name listed on holiday card included in bags\n				One company representative invited to help stuff bags\n				Website/Social Media recognition\n			\n			\n			 \n\n			 \n\n			Unlimited\n		\n		\n			 SANTA'S ELVES SPONSOR - $200\n			\n				Company name listed on holiday card included in bags\n				Website/Social Media recognition\n			\n			\n			 \n\n			 \n\n			Unlimited
X-ALT-DESC;FMTTYPE=text/html:<span style="font-size:36px\;"><span style="color:#000000\;"><strong><span style="font-family:times new roman\;">Operation</span></strong></span><span style="color:#2F4F4F\;"><strong><span style="font-family:times new roman\;"> </span></strong></span><span style="color:#B22222\;"><strong><span style="font-family:times new roman\;">Holiday Cheer!</span></strong></span></span><br />\n<span style="font-size:16px\;">This is a long-standing tradition for the Bellevue Chamber of Commerce &amp\; Community\, and we are happy to keep it going this year. Operation Holiday Cheer seeks to bring a little holiday magic to our local enlisted military members that remain in the Offutt Air Force Base dorms over Christmas. Bags are filled with jolly goodies and delivered to Offutt to bring some holiday cheer.<br />\n<br />\nPlease&nbsp\;consider making a financial or in-kind donation to enable the Bellevue Chamber of Commerce &amp\; Community the ability to secure items for 500 bags.&nbsp\;All contributors are recognized on a holiday card that is included in the bag. Please make checks payable to&nbsp\;the Bellevue Economic Enhancement Foundation (BEEF) c/o of Operation Holiday Cheer - Bellevue Chamber of Commerce &amp\; Community. You can also contribute via credit card through the &quot\;Register&quot\; button on the right-hand side of this screen. <u>Contributors of $300+ will be invited to help stuff the bags on Tuesday\, December 9th <em>(please note that stuffing the bags is by invitation only)</em>.</u><br />\n<br />\nYou are also welcome to donate in-kind items! Please ensure that the items are new and that you have 500 of them so each military member receives the same items in their bag. Thank you for your generosity in helping to continue this cheerful and magical tradition for those stationed here in Bellevue!<br />\n<br />\n<u><strong>Donations (financial and in-kind) must be received by Tuesday\, December 2nd. The Chamber is happy to pick up donations. Please contact us to arrange a time.</strong></u><br />\n<br />\nSponsorship Opportunities:</span>\n<table border="1" cellpadding="0" cellspacing="0" style="border-collapse:collapse\;border:none\;">\n	<tbody>\n		<tr>\n			<td style="width:540px\;border:solid windowtext 1.0pt\;padding:0in 5.4pt 0in 5.4pt\;vertical-align:top\;"><span style="font-size:14px\;">&nbsp\;<strong>SANTA CLAUS SPONSOR - $500</strong></span>\n			<ul>\n				<li style="margin-top:0in\;margin-right:0in\;margin-bottom:0in\;">Company name listed on holiday card included in bags</li>\n				<li style="margin-top:0in\;margin-right:0in\;margin-bottom:0in\;">Two company representatives invited to help stuff bags seat</li>\n				<li style="margin-top:0in\;margin-right:0in\;margin-bottom:0in\;">Website/Social Media recognition&nbsp\;</li>\n			</ul>\n			</td>\n			<td style="width:84px\;border:solid windowtext 1.0pt\;border-left:none\;padding:0in 5.4pt 0in 5.4pt\;vertical-align:top\;">&nbsp\;<br />\n			&nbsp\;<br />\n			Unlimited</td>\n		</tr>\n		<tr>\n			<td style="width:540px\;border:solid windowtext 1.0pt\;border-top:none\;padding:0in 5.4pt 0in 5.4pt\;vertical-align:top\;"><span style="font-size:14px\;">&nbsp\;<strong>RUDOLPH SPONSOR - $300</strong></span>\n			<ul>\n				<li style="margin-top:0in\;margin-right:0in\;margin-bottom:0in\;">Company name listed on holiday card included in bags</li>\n				<li style="margin-top:0in\;margin-right:0in\;margin-bottom:0in\;">One company representative invited to help stuff bags</li>\n				<li style="margin-top:0in\;margin-right:0in\;margin-bottom:0in\;">Website/Social Media recognition</li>\n			</ul>\n			</td>\n			<td style="width:84px\;border-top:none\;border-left:none\;border-bottom:solid windowtext 1.0pt\;border-right:solid windowtext 1.0pt\;padding:0in 5.4pt 0in 5.4pt\;vertical-align:top\;">&nbsp\;<br />\n			&nbsp\;<br />\n			Unlimited</td>\n		</tr>\n		<tr>\n			<td style="width:540px\;border:solid windowtext 1.0pt\;border-top:none\;padding:0in 5.4pt 0in 5.4pt\;vertical-align:top\;"><span style="font-size:14px\;">&nbsp\;<strong>SANTA&rsquo\;S ELVES SPONSOR - $200</strong></span>\n			<ul>\n				<li style="margin-top:0in\;margin-right:0in\;margin-bottom:0in\;">Company name listed on holiday card included in bags</li>\n				<li style="margin-top:0in\;margin-right:0in\;margin-bottom:0in\;">Website/Social Media recognition</li>\n			</ul>\n			</td>\n			<td style="width:84px\;border-top:none\;border-left:none\;border-bottom:solid windowtext 1.0pt\;border-right:solid windowtext 1.0pt\;padding:0in 5.4pt 0in 5.4pt\;vertical-align:top\;">&nbsp\;<br />\n			&nbsp\;<br />\n			Unlimited</td>\n		</tr>\n	</tbody>\n</table>\n&nbsp\;<br />\n<br />\n&nbsp\;
LOCATION:
UID:e.3271.2586
SEQUENCE:3
DTSTAMP:20260420T194327Z
URL:https://business.bellevuenebraska.com/events/details/operation-holiday-cheer-2025-2586
END:VEVENT

END:VCALENDAR
