BEGIN:VCALENDAR
VERSION:2.0
PRODID:-//ChamberMaster//Event Calendar 2.0//EN
METHOD:PUBLISH
X-PUBLISHED-TTL:P3D
REFRESH-INTERVAL:P3D
CALSCALE:GREGORIAN
BEGIN:VEVENT
DTSTART:20230506T150000Z
DTEND:20230506T190000Z
X-MICROSOFT-CDO-ALLDAYEVENT:FALSE
SUMMARY:Meet Your Army at Bellevue University
DESCRIPTION:"Meet Your Army" Saturday\, May 6\, from 10 a.m. to 2 p.m. during a free community event. In addition to all the Army and Nebraska Army National Guard displays\, there will be local vendors that are partners with the military in the Marge H. Durham Student Center.
X-ALT-DESC;FMTTYPE=text/html:<span style="font-size:20px\;"><span style="font-family: Arial\, Verdana\, sans-serif\;">&ldquo\;Meet Your Army&rdquo\; Saturday\, May 6\, from 10 a.m. to 2 p.m. during a free community event.&nbsp\;</span><span style="box-sizing: border-box\; font-family: Arial\, Verdana\, sans-serif\;">In addition to all the Army and Nebraska Army National Guard displays\, there will be local vendors that are partners with the military in the Marge H. Durham Student Center.&nbsp\;</span></span>
LOCATION:Bellevue University 1008 Bruin Blvd.\, Bellevue\, NE 68005 Free parking will be available in lots A and B.
UID:e.3271.949
SEQUENCE:3
DTSTAMP:20260420T123442Z
URL:https://business.bellevuenebraska.com/events/details/meet-your-army-at-bellevue-university-949
END:VEVENT

END:VCALENDAR
