BEGIN:VCALENDAR
VERSION:2.0
PRODID:-//ChamberMaster//Event Calendar 2.0//EN
METHOD:PUBLISH
X-PUBLISHED-TTL:P3D
REFRESH-INTERVAL:P3D
CALSCALE:GREGORIAN
BEGIN:VEVENT
DTSTART:20260519T140000Z
DTEND:20260519T153000Z
X-MICROSOFT-CDO-ALLDAYEVENT:FALSE
SUMMARY:Introduction to Government Contracting
DESCRIPTION:INTRODUCTION TO GOVERNMENT CONTRACTING\n\nPresented by Harold Sargus\, CPP\, MBA\, Consultant\n\n                         Nebraska APEX Accelerator \nThis introductory session will provide you with a basic understanding of how to do business with the local\, state and federal governments. You will learn about the pros and cons of doing business with the government\, as well as registrations\, certifications\, and some marketing activities. You will hear about being procurement ready and some common myths.\n\nI. What is meant by Government Contracting?\n\nII. The Pros and Cons of Government Contracting\n\nIII. Doing Business with Local Governments\n\nIV. Doing Business with the State of Nebraska\n\nV. Doing Business with the Federal Government\n\nVI. Procurement Readiness\n\nVII. Common Myths
X-ALT-DESC;FMTTYPE=text/html:<span style="font-size: 18px\;"><b><span style="font-size:20px\;">INTRODUCTION TO GOVERNMENT CONTRACTING</span><br />\nPresented by Harold Sargus\, CPP\, MBA\, Consultant<br />\n&nbsp\; &nbsp\; &nbsp\; &nbsp\; &nbsp\; &nbsp\; &nbsp\; &nbsp\; &nbsp\; &nbsp\; &nbsp\; &nbsp\; &nbsp\;Nebraska APEX Accelerator&nbsp\;</b></span>\n<p style="color: rgb(0\, 0\, 0)\; font-family: &quot\;Times New Roman&quot\;\; font-size: medium\;">This introductory session will provide you with a basic understanding of how to do business with the local\, state and federal governments. You will learn about the pros and cons of doing business with the government\, as well as registrations\, certifications\, and some marketing activities. You will hear about being procurement ready and some common myths.</p>\n\n<p style="color: rgb(0\, 0\, 0)\; font-family: &quot\;Times New Roman&quot\;\; font-size: medium\;">I. What is meant by Government Contracting?</p>\n\n<p style="color: rgb(0\, 0\, 0)\; font-family: &quot\;Times New Roman&quot\;\; font-size: medium\;">II. The Pros and Cons of Government Contracting</p>\n\n<p style="color: rgb(0\, 0\, 0)\; font-family: &quot\;Times New Roman&quot\;\; font-size: medium\;">III. Doing Business with Local Governments</p>\n\n<p style="color: rgb(0\, 0\, 0)\; font-family: &quot\;Times New Roman&quot\;\; font-size: medium\;">IV. Doing Business with the State of Nebraska</p>\n\n<p style="color: rgb(0\, 0\, 0)\; font-family: &quot\;Times New Roman&quot\;\; font-size: medium\;">V. Doing Business with the Federal Government</p>\n\n<p style="color: rgb(0\, 0\, 0)\; font-family: &quot\;Times New Roman&quot\;\; font-size: medium\;">VI. Procurement Readiness</p>\n\n<p style="color: rgb(0\, 0\, 0)\; font-family: &quot\;Times New Roman&quot\;\; font-size: medium\;">VII. Common Myths</p>\n<span style="font-size: 18px\;"><b>&nbsp\;</b></span><br />\n<br />\n&nbsp\;
LOCATION:Bellevue University Multi-Purpose Room 812 Bruin Blvd
UID:e.3271.2654
SEQUENCE:3
DTSTAMP:20260420T043156Z
URL:https://business.bellevuenebraska.com/events/details/introduction-to-government-contracting-2654
END:VEVENT

END:VCALENDAR
