BEGIN:VCALENDAR
VERSION:2.0
PRODID:-//ChamberMaster//Event Calendar 2.0//EN
METHOD:PUBLISH
X-PUBLISHED-TTL:P3D
REFRESH-INTERVAL:P3D
CALSCALE:GREGORIAN
BEGIN:VEVENT
DTSTART:20250911T210000Z
DTEND:20250911T230000Z
X-MICROSOFT-CDO-ALLDAYEVENT:FALSE
SUMMARY:Business After Hours at Sharp Hair Salon
DESCRIPTION:Sharp After Hours   \n\nUnwind. Connect. Be You.\n\nThursday | 4 6 PM | Sharp Hair Salon\n\nJoin us for a chill evening at the salon   no pressure\, just good conversation and great company.\n\nWhether you're stopping by to say hi\, meet new faces\, or simply kick back after a long day\, we'd love to see you.\n\n  Light refreshments\n\n  Casual networking\n\n  A relaxed space to connect\n\nPop in\, grab a drink\, and enjoy some down time with your local community   all in the cozy comfort of Sharp Hair Salon
X-ALT-DESC;FMTTYPE=text/html:<p data-end="228" data-start="125"><span style="font-size:18px\;">&#127807\;&#10024\; <strong data-end="150" data-start="129">Sharp After Hours</strong> &#10024\;&#127807\;<br data-end="157" data-start="154" />\n<strong data-end="185" data-start="157">Unwind. Connect. Be You.</strong><br data-end="188" data-start="185" />\n<strong data-end="228" data-start="188">Thursday | 4&ndash\;6 PM | Sharp Hair Salon</strong></span></p>\n\n<p data-end="443" data-start="230"><span style="font-size:18px\;">Join us for a chill evening at the salon &mdash\; no pressure\, just good conversation and great company.<br data-end="330" data-start="327" />\nWhether you&#39\;re stopping by to say hi\, meet new faces\, or simply kick back after a long day\, we&rsquo\;d love to see you.</span></p>\n\n<p data-end="523" data-start="445"><span style="font-size:18px\;">&#128420\; Light refreshments<br data-end="469" data-start="466" />\n&#128420\; Casual networking<br data-end="492" data-start="489" />\n&#128420\; A relaxed space to connect</span></p>\n\n<p data-end="633" data-start="525"><span style="font-size:18px\;">Pop in\, grab a drink\, and enjoy some down time with your local community &mdash\; all in the cozy comfort of Sharp Hair Salon</span></p>\n
LOCATION:2216 Wayne Street Bellevue NE 68005
UID:e.3271.1638
SEQUENCE:3
DTSTAMP:20260421T095952Z
URL:https://business.bellevuenebraska.com/events/details/business-after-hours-at-sharp-hair-salon-1638
END:VEVENT

END:VCALENDAR
