BEGIN:VCALENDAR
VERSION:2.0
PRODID:-//ChamberMaster//Event Calendar 2.0//EN
METHOD:PUBLISH
X-PUBLISHED-TTL:P3D
REFRESH-INTERVAL:P3D
CALSCALE:GREGORIAN
BEGIN:VEVENT
DTSTART:20251121T220000Z
DTEND:20251121T233000Z
X-MICROSOFT-CDO-ALLDAYEVENT:FALSE
SUMMARY:Bellevue University's MVSC Ribbon Cutting & Open House
DESCRIPTION:Our military and veteran community has a new\, expanded space. Having outgrown our previous location\, we are thrilled to have moved into an 11\,800-square-foot facility near the very center of campus. Our new space doubles our capacity to serve our military and veteran students and their families\, but also deepens our collaborative work with our on-site veteran service partners serving our surrounding veteran communities.
X-ALT-DESC;FMTTYPE=text/html:Our military and veteran community has a new\, expanded space. Having outgrown our previous location\, we are thrilled to have moved into an 11\,800-square-foot facility near the very center of campus. Our new space doubles our capacity to serve our military and veteran students and their families\, but also deepens our collaborative work with our on-site veteran service partners serving our surrounding veteran communities.
LOCATION:John B. Muller Administrative Services Bldg. 812 Bruin Blvd\, Bellevue\, NE 68005
UID:e.3271.2625
SEQUENCE:3
DTSTAMP:20260421T004503Z
URL:https://business.bellevuenebraska.com/events/details/bellevue-university-s-mvsc-ribbon-cutting-open-house-2625
END:VEVENT

END:VCALENDAR
