BEGIN:VCALENDAR
VERSION:2.0
PRODID:-//ChamberMaster//Event Calendar 2.0//EN
METHOD:PUBLISH
X-PUBLISHED-TTL:P3D
REFRESH-INTERVAL:P3D
CALSCALE:GREGORIAN
BEGIN:VEVENT
DTSTART:20250905T150000Z
DTEND:20250905T210000Z
X-MICROSOFT-CDO-ALLDAYEVENT:FALSE
SUMMARY:6th Annual Swing for Fallen Heroes Golf Event
DESCRIPTION:ONE-OF-A-KIND EVENT! Friday\, September 5\, 2025. Honor and Remember Flag Presentation Ceremony. 6th Annual Swing for the Nebraska Fallen Heroes Golf Outing. Willow Lakes Golf Course. 18 Holes\, Shotgun Tee Off.
X-ALT-DESC;FMTTYPE=text/html:ONE-OF-A-KIND EVENT! Friday\, September 5\, 2025. Honor and Remember Flag Presentation Ceremony. 6th Annual Swing for the Nebraska Fallen Heroes Golf Outing. Willow Lakes Golf Course. 18 Holes\, Shotgun Tee Off.
LOCATION:Willow Lakes Golf Course\, Bellevue\, NE
UID:e.3271.2590
SEQUENCE:3
DTSTAMP:20260421T095618Z
URL:https://business.bellevuenebraska.com/events/details/6th-annual-swing-for-fallen-heroes-golf-event-2590
END:VEVENT

END:VCALENDAR
